BEGIN:VCALENDAR
PRODID:-//hacksw/handcal//NONSGML v1.0//EN
VERSION:2.0
METHOD:PUBLISH
BEGIN:VEVENT
DTSTART:20140123T221500Z
DTEND:20140124T003000Z
LOCATION:Duquesne Club
UID:773020140123T221500ZSuccession Planning: Planning for Success!
DTSTAMP:20260422T102827Z
DESCRIPTION:\n5:15 PM Networking and Cash Bar\n 6:00 PM Dinner and Program\n 7:30 PM Program Concludes\n \nAs your clients age, succession planning will become increasingly important to them - they know it’s a critical topic, but likely need help tackling the issue. Join our panel of experts to learn how you can earn the right to be the trusted advisor for business transition issues and discover how and when to begin the succession planning discussion.\n   \nRobert Fragasso\n \nChairman and Chief Executive Officer\n \nFragasso Financial Advisors\n\n[Read Robert Fragasso's Bio Here.](http://www.fragassoadvisors.com/aboutus/Biographies)\n    \nKrishna Pendyala\n \nFounder and Chief Empowerment Officer\n \nTetra Advisors\n\n[Read Krishna Pendyala's Bio Here.](/assets/Councils/Pittsburgh-PA/userContent/pdf/Krishna%20Pendyala%20Bio.pdf)\n    \nBernard C. Wetzel, Ph.D.\n \nExecutive Coach and Consultant\n\n[Read Bernard Wetzel's Bio Here.](/assets/Councils/Pittsburgh-PA/userContent/pdf/Bernard%20Wetzel%20Bio.pdf)\n  \n \n
SUMMARY:Succession Planning: Planning for Success! - Estate Planning Council of Pittsburgh 
PRIORITY:3
BEGIN:VALARM
TRIGGER:PT18H
ACTION:DISPLAY
DESCRIPTION:Reminder
END:VALARM
END:VEVENT
END:VCALENDAR