BEGIN:VCALENDAR
PRODID:-//hacksw/handcal//NONSGML v1.0//EN
VERSION:2.0
METHOD:PUBLISH
BEGIN:VEVENT
DTSTART:20130919T153000Z
DTEND:20130919T173000Z
LOCATION:Duquesne Club
UID:772920130919T153000ZState of the Economy
DTSTAMP:20260422T100947Z
DESCRIPTION:\nPlease join us for lunch at the Duquesne Club on September 19, 2013 when we will welcome guest speaker Steven H. Reiff, Senior Vice President and National Director – Investment Advice, Analytics and Solutions for BNY Mellon Wealth Management. Steve will discuss the current state of the economy, the markets and interest rates and how he and his team are developing client solutions during these uncertain times.\n
SUMMARY:State of the Economy - Estate Planning Council of Pittsburgh 
PRIORITY:3
BEGIN:VALARM
TRIGGER:PT18H
ACTION:DISPLAY
DESCRIPTION:Reminder
END:VALARM
END:VEVENT
END:VCALENDAR