BEGIN:VCALENDAR
PRODID:-//hacksw/handcal//NONSGML v1.0//EN
VERSION:2.0
METHOD:PUBLISH
BEGIN:VEVENT
DTSTART:20121018T120000Z
DTEND:20121018T210000Z
LOCATION:Hilton Garden Southpointe
UID:621820121018T120000ZFinancial "Four"um
DTSTAMP:20260422T101714Z
DESCRIPTION:\nRegister today for the Financial “Four”um - the premiere event for financial planning and services professionals in greater Pittsburgh and western Pennsylvania. The Hilton Garden Inn Southpointe is where the most successful financial planners in the area, and the elite in the industry, will be on Thursday, October 18 from 8:30 AM to 5 PM.\n \nBesides networking with old friends and reaching out to meet new ones, attendees will be hearing and learning from some of the best speakers in the profession from the United States and Canada. \n Featured keynote speaker is America’s leading speaker on retirement Natalie B. Choate, Esquire who will cover "Planning for Retirement Benefits: Recent Developments and Current Trends -- and 201 Best (and Worst) Planning Ideas for Your Client’s Retirement Benefits" Jon Delano, Money & Politics Editor, KDKA-TV, Jon will share his "inside experience" and "perspective" with us about the upcoming election which is only 16 days before the Financial "Four"um! NAIFA President-elect John Nichols, CLU, MSM, of Disability Resource Group, Inc. in Chicago will address "Six Steps To Daily Victories." This highly energized presentation will capture your heart, open your mind and touch your soul while inspiring you to live the life that is truly a life to achieve your dreams and goals All that Glitters! Gold and the World Economy" will be presented by Presented by Dr. Martin Murenbeeld, Chief Economist, DundeeWealth Inc. Breakout sessions will cover charitable giving, long term care insurance, modern portfolio theory, asset allocation strategies, home equity conversion mortgages and more!\n \n[Click Here for Complete Program Schedule and List of Speakers!](http://www.cvent.com/d/qcq0k5)\n \n[Click Here to Register!](http://www.cvent.com/d/qcq0k5)\n \n[Sponsor the Financial "Four"um!](http://www.pittsburgh-pa.councils.naepc.org/Pittsburgh-PA/Library/Four%20um%20sponsorship%20EPC%202012.pdf)\n
SUMMARY:Financial "Four"um - Estate Planning Council of Pittsburgh 
PRIORITY:3
BEGIN:VALARM
TRIGGER:PT18H
ACTION:DISPLAY
DESCRIPTION:Reminder
END:VALARM
END:VEVENT
END:VCALENDAR