BEGIN:VCALENDAR
PRODID:-//hacksw/handcal//NONSGML v1.0//EN
VERSION:2.0
METHOD:PUBLISH
BEGIN:VEVENT
DTSTART:20270311T163000Z
DTEND:20270311T183000Z
LOCATION:Duquesne Club
UID:2919920270311T163000ZLunch Meeting
DTSTAMP:20260425T121834Z
DESCRIPTION:
SUMMARY:Lunch Meeting - Estate Planning Council of Pittsburgh 
PRIORITY:3
BEGIN:VALARM
TRIGGER:PT18H
ACTION:DISPLAY
DESCRIPTION:Reminder
END:VALARM
END:VEVENT
END:VCALENDAR