BEGIN:VCALENDAR
PRODID:-//hacksw/handcal//NONSGML v1.0//EN
VERSION:2.0
METHOD:PUBLISH
BEGIN:VEVENT
DTSTART:20250626T210000Z
DTEND:20250626T230000Z
LOCATION:FNB Financial Center
UID:2768920250626T210000ZSummer Networking Social
DTSTAMP:20260422T101538Z
DESCRIPTION:\nYou are invited to join your fellow EPC Pittsburgh Members for the Summer Social and Networking Mixer.\n\nFNB Financial Center\n 626 Washington Place\n Pittsburgh, PA 15219\n \nThere is no charge to attend this social, but registration is required, so we can plan appropriately.\n \nHelp grow EPC and bring a potential member with you!\n
SUMMARY:Summer Networking Social - Estate Planning Council of Pittsburgh 
PRIORITY:3
BEGIN:VALARM
TRIGGER:PT18H
ACTION:DISPLAY
DESCRIPTION:Reminder
END:VALARM
END:VEVENT
END:VCALENDAR