BEGIN:VCALENDAR
PRODID:-//hacksw/handcal//NONSGML v1.0//EN
VERSION:2.0
METHOD:PUBLISH
BEGIN:VEVENT
DTSTART:20241119T220000Z
DTEND:20241120T000000Z
LOCATION:R Wine Cellar on Penn
UID:2689120241119T220000ZFall Networking Social
DTSTAMP:20260422T103708Z
DESCRIPTION:\n\n \nYou are invited to join your fellow EPC Pittsburgh Members for the Fall Social and Networking Mixer.\n \nThere is no charge to attend this social, but registration is required, so we can plan appropriately.\n \nHelp grow EPC and bring a potential member with you!\n \nR Wine Cellar on Penn\n \n2519 Penn Avenue ~ in the Historic Pittsburgh Strip District\n
SUMMARY:Fall Networking Social - Estate Planning Council of Pittsburgh 
PRIORITY:3
BEGIN:VALARM
TRIGGER:PT18H
ACTION:DISPLAY
DESCRIPTION:Reminder
END:VALARM
END:VEVENT
END:VCALENDAR