BEGIN:VCALENDAR
PRODID:-//hacksw/handcal//NONSGML v1.0//EN
VERSION:2.0
METHOD:PUBLISH
BEGIN:VEVENT
DTSTART:20250515T153000Z
DTEND:20250515T173000Z
LOCATION:Duquesne Club
UID:2603720250515T153000ZMaximizing Tax Efficiency: Planning with Excess GST Exemption
DTSTAMP:20260422T103205Z
DESCRIPTION:\nRegistration for this lunch is closed. Walk-ins will not be accommodated.\n \nThis presentation will cover planning opportunities for individuals with remaining GST exemption but little or no gift tax exemption, as well as post-mortem planning with excess GST exemption.  The presentation will also cover some of the related GST rules and GST allocations.    \n \nPresented by [Carl C. Fiore](https://global.andersen.com/people/carl-c-fiore), Managing Director/Partner, Andersen.\n \n11:30 AM - registration and networking\n Noon - lunch is served and program begins\n 1:30 - meeting concludes\n \n1 CLE, 1 CFP and 1 CPE credit approved.\n
SUMMARY:Maximizing Tax Efficiency: Planning with Excess GST Exemption - Estate Planning Council of Pittsburgh 
PRIORITY:3
BEGIN:VALARM
TRIGGER:PT18H
ACTION:DISPLAY
DESCRIPTION:Reminder
END:VALARM
END:VEVENT
END:VCALENDAR