BEGIN:VCALENDAR
PRODID:-//hacksw/handcal//NONSGML v1.0//EN
VERSION:2.0
METHOD:PUBLISH
BEGIN:VEVENT
DTSTART:20240118T223000Z
DTEND:20240119T003000Z
LOCATION:Duquesne Club
UID:2544120240118T223000ZEstate Planning for the “Merely” Wealthy: Considerations for Those with Less Than the Current Federal Transfer Tax Exemption
DTSTAMP:20260422T102856Z
DESCRIPTION:\nRegistration for this meeting is closed. We are no longer accepting reservations.\n \nAs the federal transfer tax exemption amount is currently $10 million indexed for inflation ($13.61 million in 2024), the majority of individuals do not need to be concerned about federal transfer taxes for lifetime gifts or at death.  However, there are still important planning considerations for those with less than the federal exemption amounts and those will be discussed in this presentation including, GST tax, Titling of assets, Effect of the higher exemptions on existing trusts, Effect of the increased exemptions on formula clauses, Whether portability makes sense, or a credit shelter trust is still appropriate, Income tax considerations – basis adjustment planning, State tax law considerations, Adding flexibility to accommodate future tax law changes or changed circumstances and Benefits of trusts and traditional non-tax planning (asset protection, blended families, spendthrift considerations, etc.)\n \nRead Lynn Halpern's bio [here](/assets/Councils/Pittsburgh-PA/userContent/files/Halpern_Lynn_Word%20bio%5B1%5D(1).pdf).\n \n5:30 pm ~ Cash Bar\n 6:00 pm ~ Dinner is served\n 7:30 pm ~ Event concludes\n \n\nApproved for 1 CFP, 1 CLE, 1 CPE credit.\n\n \nGuests and prospective members are welcome!\n\n\n
SUMMARY:Estate Planning for the “Merely” Wealthy: Considerations for Those with Less Than the Current Federal Transfer Tax Exemption - Estate Planning Council of Pittsburgh 
PRIORITY:3
BEGIN:VALARM
TRIGGER:PT18H
ACTION:DISPLAY
DESCRIPTION:Reminder
END:VALARM
END:VEVENT
END:VCALENDAR