BEGIN:VCALENDAR
PRODID:-//hacksw/handcal//NONSGML v1.0//EN
VERSION:2.0
METHOD:PUBLISH
BEGIN:VEVENT
DTSTART:20231109T220000Z
DTEND:20231110T000000Z
LOCATION:Aslin Beer Co
UID:2440720231109T220000ZFall Networking Social
DTSTAMP:20260422T101703Z
DESCRIPTION:\nYou are invited to join your fellow EPC Pittsburgh Members for the Fall Social and Networking Mixer.\n \nThere is no charge to attend this social, but registration is required, so we can plan appropriately.\n \nHelp grow EPC and bring a potential member with you!\n \nAslin Beer Co\n \n1801 Smallman Street\n \nPittsburgh PA 15222\n \nIn the Terminal Building in the Strip\n \n\n \nThank you to Scott F. Purcell, CLU, ChFC, REBC, RHU, CLTC and Innovative Benefits Consulting, Inc. for Sponsoring this Social.\n
SUMMARY:Fall Networking Social - Estate Planning Council of Pittsburgh 
PRIORITY:3
BEGIN:VALARM
TRIGGER:PT18H
ACTION:DISPLAY
DESCRIPTION:Reminder
END:VALARM
END:VEVENT
END:VCALENDAR