BEGIN:VCALENDAR
PRODID:-//hacksw/handcal//NONSGML v1.0//EN
VERSION:2.0
METHOD:PUBLISH
BEGIN:VEVENT
DTSTART:20230921T153000Z
DTEND:20230921T173000Z
LOCATION:Duquesne Club
UID:2439120230921T153000ZAdding Value to your Business Owner Clients
DTSTAMP:20260422T101904Z
DESCRIPTION:\nRegistration is closed. No further reservations will be taken.\n \nAre you looking to increase the value you provide to your business owner clients? Do you want to help maximize how much your client’s business is worth? And how can you help your business owner clients realize their dream of a successful succession plan and/or transition? Please join [Chuck Laverty](/assets/Councils/Pittsburgh-PA/userContent/files/Chuck%20Laverty.doc), Director of Business Solutions, as he covers these questions and walks through specific case studies that show how he can help you assist your business owner clients.\n \n1 CFP, 1 CLE, 1 CPE credit approved.\n
SUMMARY:Adding Value to your Business Owner Clients - Estate Planning Council of Pittsburgh 
PRIORITY:3
BEGIN:VALARM
TRIGGER:PT18H
ACTION:DISPLAY
DESCRIPTION:Reminder
END:VALARM
END:VEVENT
END:VCALENDAR