BEGIN:VCALENDAR
PRODID:-//hacksw/handcal//NONSGML v1.0//EN
VERSION:2.0
METHOD:PUBLISH
BEGIN:VEVENT
DTSTART:20230105T220000Z
DTEND:20230106T010000Z
LOCATION:Rivers Club
UID:2366320230105T220000ZCross Professions Networking Night
DTSTAMP:20260422T101007Z
DESCRIPTION:\n\n \nKick off the New Year right – network with a purpose! Here’s your chance to be in the same room as attorneys, financial professionals, CPAs, and other business leaders. Connect with members of over 20 partner organizations to build your professional networks and share strategies and experiences.\n \nComplete details and registration are at this [link](https://www.picpa.org/attend-cpe-events/attend/local-events/western-cross-professions-networking-night?utm_source=Outlook&utm_medium=Email&utm_campaign=EventPersonal).\n
SUMMARY:Cross Professions Networking Night - Estate Planning Council of Pittsburgh 
PRIORITY:3
BEGIN:VALARM
TRIGGER:PT18H
ACTION:DISPLAY
DESCRIPTION:Reminder
END:VALARM
END:VEVENT
END:VCALENDAR