BEGIN:VCALENDAR
PRODID:-//hacksw/handcal//NONSGML v1.0//EN
VERSION:2.0
METHOD:PUBLISH
BEGIN:VEVENT
DTSTART:20220929T153000Z
DTEND:20220929T173000Z
LOCATION:Duquesne Club
UID:2275320220929T153000ZSpotting the Wolves ~ Violence is Never Random, and You are Never Helpless
DTSTAMP:20260422T103724Z
DESCRIPTION:\nThis is a presentation about dangerous personalities.  In particular, those who might commit workplace violence or targeted mass homicide. \n \nThe idea that an otherwise normal person could just “snap” one day and go on a killing spree and that such events are “random” – and hence impossible to anticipate – are fictions that lie at the core of a mechanism that, ironically, helps enable the very events we seek to forestall.\n \nViolence, rather, is a process often as predictable and observable as boiling water, if you know what to look for.  This course teaches you how to spot the “pre-incident indicators” that someone may be dangerous and heading down a dark path.\n \nEveryone says “if you see something, say something.”  This course teaches you what to look for and the simple 5-step approach to securing your workplace in the 21st Century.\n \nSpecifically, Sam will focus on:\n How to recognize potentially dangerous employees in your midst, and what to do about them How to better discern if someone who is making threats, in fact poses a threat. A simple, 5-step approach to securing your workplace in the 21st Century
SUMMARY:Spotting the Wolves ~ Violence is Never Random, and You are Never Helpless - Estate Planning Council of Pittsburgh 
PRIORITY:3
BEGIN:VALARM
TRIGGER:PT18H
ACTION:DISPLAY
DESCRIPTION:Reminder
END:VALARM
END:VEVENT
END:VCALENDAR