BEGIN:VCALENDAR
PRODID:-//hacksw/handcal//NONSGML v1.0//EN
VERSION:2.0
METHOD:PUBLISH
BEGIN:VEVENT
DTSTART:20211118T220000Z
DTEND:20211119T000000Z
LOCATION:City Works Eatery and Pour House
UID:2194420211118T220000ZEPC Fall Social and Happy Hour
DTSTAMP:20260424T083842Z
DESCRIPTION:\nYou are invited to join your fellow EPC Pittsburgh Members for the Fall Social and Networking Mixer!\n \nThere is no charge to attend this social, but registration is required, so we can plan appropriately.\n \nPotential Members and Guests are also welcome!\n \nCITY WORKS EATERY AND POUR HOUSE\n \n2 PPG Place\n Pittsburgh, PA 15222\n
SUMMARY:EPC Fall Social and Happy Hour - Estate Planning Council of Pittsburgh 
PRIORITY:3
BEGIN:VALARM
TRIGGER:PT18H
ACTION:DISPLAY
DESCRIPTION:Reminder
END:VALARM
END:VEVENT
END:VCALENDAR