BEGIN:VCALENDAR
PRODID:-//hacksw/handcal//NONSGML v1.0//EN
VERSION:2.0
METHOD:PUBLISH
BEGIN:VEVENT
DTSTART:20220324T153000Z
DTEND:20220324T173000Z
LOCATION:Duquesne Club or ZOOM
UID:2107920220324T153000ZCampaign 2022
DTSTAMP:20260422T101050Z
DESCRIPTION:\nRegistration is closed for this luncheon. No further registrations will be accepted.\n \nRead Jon Delano's complete bio [here](https://pittsburgh.cbslocal.com/personality/jon-delano/).\n \nWe are looking forward to seeing you LIVE, and IN PERSON, at the Duquesne Club at this luncheon.\n \nPlease note: All lunches are pre-paid in advance of the meeting. If you registered to attend in person, and find you are no longer able to attend the luncheon, please email epcpittsburgh@epcpittsburgh.org or call 412-655-4447 to cancel your reservation no later than 48 hours prior to the luncheon. Cancellations after 5 PM on Monday, March 21st and no-shows will be billed for the cost of lunch.\n \nDue to the lack of interest in participating virtually, this program will no longer be live streamed via Zoom.\n
SUMMARY:Campaign 2022 - Estate Planning Council of Pittsburgh 
PRIORITY:3
BEGIN:VALARM
TRIGGER:PT18H
ACTION:DISPLAY
DESCRIPTION:Reminder
END:VALARM
END:VEVENT
END:VCALENDAR