BEGIN:VCALENDAR
PRODID:-//hacksw/handcal//NONSGML v1.0//EN
VERSION:2.0
METHOD:PUBLISH
BEGIN:VEVENT
DTSTART:20220120T223000Z
DTEND:20220121T003000Z
LOCATION:Duquesne Club, downtown Pittsburgh
UID:2107820220120T223000ZUnderstanding Today’s Cybersecurity Threats, and the Role of Federal Law Enforcement in Combating those Threats, to Better Protect Your Business
DTSTAMP:20260422T101720Z
DESCRIPTION:\nCybersecurity is a universal problem affecting both the public and private sectors. It is only through a coordinated public-private partnership, with robust information-sharing, that we will be able to meet the threat. It is critical that business owners understand today’s cyber threats, are taking steps to prevent attacks, and are prepared to adequately respond to attacks.  Please join us for this event as representatives from the FBI’s Pittsburgh Field Office and the U.S. Attorney’s Office for the Western District of Pennsylvania discuss: the current threat landscape; recent trends; preventative and responsive measures for businesses; the availability of FBI threat indicators to aid businesses in protecting themselves against an attack; interacting with the FBI and U.S. Attorney’s Office after an attack; and examples of efforts to combat cybercrime in the Western District of Pennsylvania.\n \nRead Charles A. “Tod” Eberle IV bio [here](/assets/Councils/Pittsburgh-PA/userContent/files/Tod%20Eberle%20Bio.pdf).\n \nCash bar begins 5:30 pm. Seating for dinner is 6:00 pm.\n \nGranted 1 CPE, 1 CFP and 1 CLE credit.\n
SUMMARY:Understanding Today’s Cybersecurity Threats, and the Role of Federal Law Enforcement in Combating those Threats, to Better Protect Your Business - Estate Planning Council of Pittsburgh 
PRIORITY:3
BEGIN:VALARM
TRIGGER:PT18H
ACTION:DISPLAY
DESCRIPTION:Reminder
END:VALARM
END:VEVENT
END:VCALENDAR