BEGIN:VCALENDAR
PRODID:-//hacksw/handcal//NONSGML v1.0//EN
VERSION:2.0
METHOD:PUBLISH
BEGIN:VEVENT
DTSTART:20210805T210000Z
DTEND:20210805T230000Z
LOCATION:SLY FOX TAPHOUSE AT THE POINT
UID:2102720210805T210000ZSummer Social
DTSTAMP:20260420T143302Z
DESCRIPTION:\nRegistration for this event is now closed.\n \nYou are invited to join your fellow EPC Pittsburgh Members for the Summer Social and Networking Mixer\n \nThere is no charge to attend this social, but registration is required, so we can plan appropriately.\n \nPotential members and guests are also welcome!\n \nSLY FOX TAPHOUSE AT THE POINT\n \n300 Liberty Avenue\n Suite 100\n Pittsburgh, PA 15222\n
SUMMARY:Summer Social - Estate Planning Council of Pittsburgh 
PRIORITY:3
BEGIN:VALARM
TRIGGER:PT18H
ACTION:DISPLAY
DESCRIPTION:Reminder
END:VALARM
END:VEVENT
END:VCALENDAR