BEGIN:VCALENDAR
PRODID:-//hacksw/handcal//NONSGML v1.0//EN
VERSION:2.0
METHOD:PUBLISH
BEGIN:VEVENT
DTSTART:20201105T150000Z
DTEND:20201105T170000Z
LOCATION:Virtual
UID:2025820201105T150000ZBest of The Best: The Very Top Tax Planning Ideas in 2020
DTSTAMP:20260422T101344Z
DESCRIPTION:\n2020 has been anything but predictable. Fortunately, as end-of-year approaches and a new tax year follows, Robert Keebler, partner at Keebler & Associates, brings more than two decades of expertise to present The Top 40 Tax Planning Opportunities for 2020. Tailored to attorneys, financial planners and tax professionals, his presentation will help stock your planning toolkits with proven methods to prepare you for any situation and scenario.\n \nRobert S. Keebler, CPA/PFS, MST, AEP (Distinguished) is a partner with Keebler & Associates, LLP and is a 2007 recipient of the prestigious Accredited Estate Planners (Distinguished) award from the National Association of Estate Planners & Councils. He has been named by CPA Magazine as one of the Top 100 Most Influential Practitioners in the United States and one of the Top 40 Tax Advisors to Know During a Recession. His practice includes family wealth transfer and preservation planning, charitable giving, retirement distribution planning and estate administration. He frequently represents clients before the National Office of the Internal Revenue Service in the private letter ruling process and in estate, gift and income tax examinations and appeals.\n \nCREDITS: 2 CFP, 2 substantive CLE credits and 2 CPE granted.\n \nThere is no cost to attend and this invitation is non-transferable.\n \nPlease [register online](https://community.pittsburghfoundation.org/page.redir?target=http%3a%2f%2fpghfdn.zoom.us%2fmeeting%2fregister%2ftJYsdeGvrT8iHtaoo96d-gdNVDE_zFn7zh2M&srcid=35728&srctid=1&erid=494311&trid=11899a51-21f4-42ce-81b7-964b1e0fee06) by Monday, Nov. 2. For questions, please contact Kate McKenzie at 412-394-2627 or at mckenziek@pghfdn.org. \n \nThis event is sponsored by:\n \n\n \n  \n 
SUMMARY:Best of The Best: The Very Top Tax Planning Ideas in 2020 - Estate Planning Council of Pittsburgh 
PRIORITY:3
BEGIN:VALARM
TRIGGER:PT18H
ACTION:DISPLAY
DESCRIPTION:Reminder
END:VALARM
END:VEVENT
END:VCALENDAR