BEGIN:VCALENDAR
PRODID:-//hacksw/handcal//NONSGML v1.0//EN
VERSION:2.0
METHOD:PUBLISH
BEGIN:VEVENT
DTSTART:20210121T230000Z
DTEND:20210122T003000Z
LOCATION:Zoom Webinar
UID:1954620210121T230000ZA Day After the Inauguration…Now What?
DTSTAMP:20260422T103421Z
DESCRIPTION:\nChris Stirewalt joined Fox News Channel (FNC) in July of 2010 and serves as politics editor based in Washington, D.C.\n \nStirewalt authors the daily Fox News Halftime Report political news note and co-hosts the hit podcast, Perino & Stirewalt: I'll Tell You What. He is also the host of Power Play, a feature video series on FoxNews.com.\n \nAdditionally, Stirewalt makes frequent appearances on network programs, including America's Newsroom, Special Report with Bret Baier and Fox News Sunday with Chris Wallace. He also provides expert political analysis for FNC's coverage of state, congressional and presidential elections.\n \nPrior to joining FNC, Stirewalt served as political editor for The Washington Examiner where he wrote a twice-weekly column and led political coverage for the newspaper. He also served as politics editor at the Charleston Daily Mail and West Virginia Media. Stirewalt began his career at the Wheeling Intelligencer in West Virginia.\n \nHe is a graduate of Hampden-Sydney College in Hampden-Sydney, Virginia.\n
SUMMARY:A Day After the Inauguration…Now What? - Estate Planning Council of Pittsburgh 
PRIORITY:3
BEGIN:VALARM
TRIGGER:PT18H
ACTION:DISPLAY
DESCRIPTION:Reminder
END:VALARM
END:VEVENT
END:VCALENDAR