BEGIN:VCALENDAR
PRODID:-//hacksw/handcal//NONSGML v1.0//EN
VERSION:2.0
METHOD:PUBLISH
BEGIN:VEVENT
DTSTART:20201028T170000Z
DTEND:20201028T210000Z
LOCATION:Virtual
UID:1916220201028T170000Z12th Annual Financial "Four"um Day 1
DTSTAMP:20260422T103751Z
DESCRIPTION:\n12th Annual Financial "Four"um\n \nOctober 28, 2020—October 29, 2020\n \nThere are many reasons to attend this year’s virtual Financial “Four”um hosted by the Pittsburgh Chapters of the Financial Planning Association, Estate Planning Council, Financial Service Professionals and NAIFA-PA on October 28 from 12:00 – 5:00 pm and October 29 from 8:00 am -  3:20 pm.\n \nHowever, two really good reasons for EPC members to attend are:\n \n1.  Natalie Choate is presenting Case Studies in Estate Planning for Retirement Benefits: Real Life Situations after SECURE and Death and Taxes: The Inherited Retirement Plan and more.\n \n2. 9 CLE credits are pending approval.\n \nThere will be more key experts discussing timely topics and providing thoughtful leadership across many areas of financial and estate planning. So, plan to join from the comfort of your home or office for networking opportunities, door prizes through fun online polls, and to hear brilliant messages from our partners throughout the event, on how they can bring value to your firm, and more!\n \nCost: $99 for EPC Members\n \nClick [here](https://cvent.me/wzgyZL?RefId=Agenda) for the complete agenda. Click [here](https://cvent.me/1PaL43) to register.\n
SUMMARY:12th Annual Financial "Four"um Day 1 - Estate Planning Council of Pittsburgh 
PRIORITY:3
BEGIN:VALARM
TRIGGER:PT18H
ACTION:DISPLAY
DESCRIPTION:Reminder
END:VALARM
END:VEVENT
END:VCALENDAR