BEGIN:VCALENDAR
PRODID:-//hacksw/handcal//NONSGML v1.0//EN
VERSION:2.0
METHOD:PUBLISH
BEGIN:VEVENT
DTSTART:20200116T223000Z
DTEND:20200117T003000Z
LOCATION:Duquesne Club
UID:1794720200116T223000ZAn Opportunity Zone Primer
DTSTAMP:20260422T103526Z
DESCRIPTION:\nOpportunity Zones were created by the 2017 Tax Cut and Jobs Act as a tool to incentivize economic development and job creation in distressed communities.  While the concept is straight-forward, navigating a complex (and dynamic) set of rules while managing risk in order to secure the tax benefits is anything but.  Our presenter discusses key aspects of this legislation from several stakeholder perspectives, including investors, fund managers, developers, business owners, and affected communities.  He will walk through structuring alternatives, highlight footfalls, and introduce planning techniques that help address common issues.  In addition, he will cover current developments and key unresolved aspects of the legislation that require further guidance.\n \nRead Billy Morrow's complete bio [here](https://www.bdo.com/our-people/billy-morrow).\n \n1 CFP, 1 CLE and 1 CPE credit granted.\n
SUMMARY:An Opportunity Zone Primer - Estate Planning Council of Pittsburgh 
PRIORITY:3
BEGIN:VALARM
TRIGGER:PT18H
ACTION:DISPLAY
DESCRIPTION:Reminder
END:VALARM
END:VEVENT
END:VCALENDAR