BEGIN:VCALENDAR
PRODID:-//hacksw/handcal//NONSGML v1.0//EN
VERSION:2.0
METHOD:PUBLISH
BEGIN:VEVENT
DTSTART:20191030T120000Z
DTEND:20191030T210000Z
LOCATION:Doubletree by Hilton Cranberry
UID:1770420191030T120000Z11th Annual Financial "Four"um
DTSTAMP:20260422T102318Z
DESCRIPTION:\nClick [here](http://www.cvent.com/d/lyq7xv/4W) to Register to attend today!\n6 CLE, CFP, CPE and PA Insurance credits granted!\nFeatured speakers include:\n \nDr. Brad Klontz, Psy.D., CFP\nJulian E. Gray, Esq.\nAmanda L. Priebe, CFP, MSCP - PNC Wealth Management\nMalcolm E. Polley, CFA - Stewart Capital Advisors, LLP\nDavid J. Pieton, CPA, ASA - CliftonLarsonAllen, LLP *EPC Member\nJacquelyn E. Connell, Esquire - ACHIEVA Family Trust\nJulia Kramer, CDFA, FSB - Iaso Consulting\nVenietia Robinson, M.A., MFT - Mount Ararat Baptist Church\nGail Buckner, CFP, CRPS, AIF, MS, Financial Planning - Franklin Templeton\nDavid A. Vanderaar, CFE - Retired Corporal, PA State Police\nMike Baker, LTC - Ritter Insurance Marketing\nPatty Kreamer, CPO and Michelle Donovan - Productivity Uncorked, LLC\nKathleen A. Stewart, JD, AIF - BNY Mellon Wealth Management *EPC Member\nKyle Bruchmiller - Hines Securities, Inc.\nPaul J. Brahim, CFP, AIFA - BPU Investment Management, Inc.\nPatricia Hanson, MS, LPC, NCC, CLCP - IKOR of Western PA *EPC Member and President\nChris Wiles, CFA - Wiles Wealth Consulting\n
SUMMARY:11th Annual Financial "Four"um - Estate Planning Council of Pittsburgh 
PRIORITY:3
BEGIN:VALARM
TRIGGER:PT18H
ACTION:DISPLAY
DESCRIPTION:Reminder
END:VALARM
END:VEVENT
END:VCALENDAR