BEGIN:VCALENDAR
PRODID:-//hacksw/handcal//NONSGML v1.0//EN
VERSION:2.0
METHOD:PUBLISH
BEGIN:VEVENT
DTSTART:20190321T153000Z
DTEND:20190321T173000Z
LOCATION:Duquesne Club
UID:1620020190321T153000ZU.S. and Financial Market Prospects for 2019-2020
DTSTAMP:20260422T102849Z
DESCRIPTION:\nJoin EPC Pittsburgh for this luncheon meeting featuring [Stuart G. Hoffman](https://www.pnc.com/en/about-pnc/media/experts/stuart-g-hoffman.html), Senior Economic Advisor with the PNC Financial Services Group. He will discuss the outlook for the U.S. economy in a global context for 2019-20. Specific comments will cover economic and job market growth, Fed policy and interest rates, inflation, stock market and the dollar. Discuss strengths and downside risks to the economic outlook.\n \nGranted 1 CFP and 1 CLE credit.\n
SUMMARY:U.S. and Financial Market Prospects for 2019-2020 - Estate Planning Council of Pittsburgh 
PRIORITY:3
BEGIN:VALARM
TRIGGER:PT18H
ACTION:DISPLAY
DESCRIPTION:Reminder
END:VALARM
END:VEVENT
END:VCALENDAR