BEGIN:VCALENDAR
PRODID:-//hacksw/handcal//NONSGML v1.0//EN
VERSION:2.0
METHOD:PUBLISH
BEGIN:VEVENT
DTSTART:20190117T223000Z
DTEND:20190118T003000Z
LOCATION:Duquesne Club
UID:1619920190117T223000ZHow to Read a Person
DTSTAMP:20260422T101153Z
DESCRIPTION:\nHandwriting expert Michelle Dresbold—the only civilian to be invited to the United States Secret Service's Advanced Document Examination training program—draws on her extensive experience helping law enforcement agencies around the country on cases involving kidnapping, arson, forgery, murder, embezzlement, and stalking to take you inside the mysterious world of crossed t's and dotted i's.\n\nDresbold will explain how a single sentence can provide insight into a person's background, psychology, and behavior. She will explain how criminals are tracked through handwritten clues and what spouses, friends, or employees might be hiding in their script. She will have you paying a bit more attention to your—and everyone else’s—penmanship.\n \nMichelle is the author of the book, “Sex, Lies and Handwriting.” Books will be available for purchase and signing.\n \nThis meeting is sponsored by Innovative Benefits Consulting, Inc.\n \n \n \n[](http://www.innoben.com)\n
SUMMARY:How to Read a Person - Estate Planning Council of Pittsburgh 
PRIORITY:3
BEGIN:VALARM
TRIGGER:PT18H
ACTION:DISPLAY
DESCRIPTION:Reminder
END:VALARM
END:VEVENT
END:VCALENDAR