BEGIN:VCALENDAR
PRODID:-//hacksw/handcal//NONSGML v1.0//EN
VERSION:2.0
METHOD:PUBLISH
BEGIN:VEVENT
DTSTART:20180712T210000Z
DTEND:20180712T230000Z
LOCATION:Union Standard, 524 William Penn Way
UID:1619720180712T210000ZEPC Summer Social
DTSTAMP:20260422T103034Z
DESCRIPTION:\nEPC Pittsburgh Summer Social\n Thursday, July 12, 5 - 7 pm\n \nYou are invited to join your fellow \n EPC Pittsburgh Members for cocktails and small bites!\n \nUnion Standard, 524 William Penn Place, downtown Pittsburgh\nIn the historic Union Trust Building!\n \nThere is no charge to attend this social, but registration is requested.\n Potential members and guests are also welcome!\n \nInterested in networking or promoting your organization? Do you know someone who is?\n \nWhat better way to do so then by sponsoring the July 12 Summer Social!\n This sponsorship includes:\n Table display at social Company name, link and logo on home page of www.epcpittsburgh.org Opportunity to greet guests and distribute name badges with council executive Opportunity to give 5 minute company commercial and Registration for 3 guests!   \nEPC Pittsburgh is growing and our events are becoming more and more popular.  Reply to this email or [click here](http://www.epcpittsburgh.org/council/sponsor-sales) for more information on sponsoring this event. If you are unable to sponsor the July event, but would like information on sponsoring other upcoming events, please [click here](http://www.epcpittsburgh.org/council/sponsor-sales).\n \n \n
SUMMARY:EPC Summer Social - Estate Planning Council of Pittsburgh 
PRIORITY:3
BEGIN:VALARM
TRIGGER:PT18H
ACTION:DISPLAY
DESCRIPTION:Reminder
END:VALARM
END:VEVENT
END:VCALENDAR