BEGIN:VCALENDAR
PRODID:-//hacksw/handcal//NONSGML v1.0//EN
VERSION:2.0
METHOD:PUBLISH
BEGIN:VEVENT
DTSTART:20170928T153000Z
DTEND:20170928T173000Z
LOCATION:Duquesne Club
UID:1429820170928T153000ZUnderstanding Medicare – Medicare as Part of the Estate Planning Process
DTSTAMP:20260420T142044Z
DESCRIPTION:\nThis presentation is an overview of the Medicare Health System and how the system works in delivering health care coverage for nearly 60 million individuals.  The goal is to provide a basic understanding of how this system can be effectively used to obtain affordable quality health services.  We will examine the purpose and design of Medicare; its eligibility and enrollment criteria; and the various components of the Medicare system – their individual characteristics and function, how they interact within the Medicare system and coordinate with non-Medicare health care coverage (such as Medicaid).  Particular emphasis will be on the role of Medicare in the estate planning process and how it coordinates with the other benefits available to the individual client, and how to make the best choice of an individual health care strategy.\n \nBill McKendree is director of the APPRISE program in Allegheny County.  APPRISE is Pennsylvania’s State Health Insurance Assistance Program, helping consumers with Medicare, Medicaid, and other health insurance concerns.  In addition to his role at APPRISE, Mr. McKendree also teaches courses on Health Law and Health Care Policy at the University of Pittsburgh’s School of Law and the School of Pharmacy.  Mr. McKendree has a J.D. degree from Duquesne University’s School of Law and a Masters in Public Administration from the University of Pittsburgh.\n \n1 CFP, 1 CLE and 1 CPE credit granted\n \nPLEASE NOTE that membership renewals were due July 1. If you have not renewed your membership, the cost to attend this luncheon is $50. This meeting will sell out, so if you made a reservation, but find you cannot make it, please call and cancel, so your spot may be available for another member.\n \nFirst time guests, who are potential members and have never attended an EPC meeting, may attend one EPC luncheon meeting or the annual dinner meeting free of charge. Pre-registration is mandatory. Due to limited space and pre-payment of meals, no shows will be billed the non member rate of $50.\n
SUMMARY:Understanding Medicare – Medicare as Part of the Estate Planning Process - Estate Planning Council of Pittsburgh 
PRIORITY:3
BEGIN:VALARM
TRIGGER:PT18H
ACTION:DISPLAY
DESCRIPTION:Reminder
END:VALARM
END:VEVENT
END:VCALENDAR