BEGIN:VCALENDAR
PRODID:-//hacksw/handcal//NONSGML v1.0//EN
VERSION:2.0
METHOD:PUBLISH
BEGIN:VEVENT
DTSTART:20160623T213000Z
DTEND:20160623T233000Z
LOCATION:Sienna Mercato
UID:1318620160623T213000ZSocial and Networking event
DTSTAMP:20260422T103412Z
DESCRIPTION:\nEPC Pittsburgh Summer Social\n \nYou are invited to join your fellow \n EPC Pittsburgh Members for networking and fellowship!\n Potential members are also welcome!\n \nSponsored by\n\n \nThursday, June 23, 2016\n 5:30 - 7:30 PM\n Sienna Mercato, 942 Penn Avenue, downtown Pittsburgh\n \nSpace is limited. Pre-registration is required!\n
SUMMARY:Social and Networking event - Estate Planning Council of Pittsburgh 
PRIORITY:3
BEGIN:VALARM
TRIGGER:PT18H
ACTION:DISPLAY
DESCRIPTION:Reminder
END:VALARM
END:VEVENT
END:VCALENDAR