BEGIN:VCALENDAR
PRODID:-//hacksw/handcal//NONSGML v1.0//EN
VERSION:2.0
METHOD:PUBLISH
BEGIN:VEVENT
DTSTART:20170316T153000Z
DTEND:20170316T173000Z
LOCATION:Duquesne Club
UID:1318320170316T153000ZLong Term Care Insurance Discussion
DTSTAMP:20260422T101145Z
DESCRIPTION:\nPlanning for long-term care is one of the most challenging topics between family members and their trusted advisors.  In addition to trying to initiate a conversation, the topic of how to pay for such care is also critically important.  Too often families, even those with completed estate planning documents, are unprepared to deal with a crisis in care.\n \nThis session will feature experts in LTC Planning and LTC Insurance discussing practical ideas for preparing families for the future.  The panel will feature two presentations. The first presentation is from a leading distributor of LTC Insurance products about practical ways to help clients discuss the need to plan and the universe of choices. The second presentation is from an actuary, who is the President of an LTC Reinsurance company, about the likelihood of current products needing pricing adjustments, the actuarially most beneficial product features, and some key tax opportunities available to those who purchase LTCi using special features in the tax code.\n \nPresented by: \n \n[Tom Riekse](https://www.ltcipartners.com/blog/author/tom-riekse-jr), Jr. Managing Director, LTCI Partners, LLC\n[James M. Glickman](https://www.soa.org/about/elections/2015/elect-2015-ques-glickman-james/), FSA, CLU, President and CEO, LifeCare Assurance Company\n \n1 CPE, 1 CFP, 1 CLE credit granted.\n \n \n
SUMMARY:Long Term Care Insurance Discussion - Estate Planning Council of Pittsburgh 
PRIORITY:3
BEGIN:VALARM
TRIGGER:PT18H
ACTION:DISPLAY
DESCRIPTION:Reminder
END:VALARM
END:VEVENT
END:VCALENDAR