BEGIN:VCALENDAR
PRODID:-//hacksw/handcal//NONSGML v1.0//EN
VERSION:2.0
METHOD:PUBLISH
BEGIN:VEVENT
DTSTART:20160519T153000Z
DTEND:20160519T173000Z
LOCATION:Duquesne Club
UID:1187520160519T153000ZFiduciary Excellence under the DOL's Uniform Fiduciary Standard
DTSTAMP:20260424T083834Z
DESCRIPTION:\nRegistration to this luncheon is closed.\n \nThere are over 5 million fiduciaries in this country that oversee or control 80% of the nation’s wealth. They are board members, trustees, consultants, lawyers and even family members. This course explores the 7 Global Fiduciary Precepts that define best practices for these stewards as defined by the Uniform Prudent Investor Act (UPIA, for trusts); the Uniform Prudent Management of Institutional Funds Acts (UPMIFA, for non-profits); and, the Employee Retirement Income Security Act (ERISA, for retirement plans).  With the advent of the DOL’s new Uniform Fiduciary Standard, understanding the duty it confers on you has never been more important.\n \nGranted 1 CFP, 1 CLE and 1 CPE credit.\n \nReserve a [parking space at this link](http://www.downtownpittsburgh.com/getting-around/parking/reservation)\n
SUMMARY:Fiduciary Excellence under the DOL's Uniform Fiduciary Standard - Estate Planning Council of Pittsburgh 
PRIORITY:3
BEGIN:VALARM
TRIGGER:PT18H
ACTION:DISPLAY
DESCRIPTION:Reminder
END:VALARM
END:VEVENT
END:VCALENDAR