BEGIN:VCALENDAR
PRODID:-//hacksw/handcal//NONSGML v1.0//EN
VERSION:2.0
METHOD:PUBLISH
BEGIN:VEVENT
DTSTART:20151021T120000Z
DTEND:20151021T210000Z
LOCATION:River Casino Banquet Hall
UID:1166620151021T120000ZFinancial "Four"um
DTSTAMP:20260422T102657Z
DESCRIPTION:\n[Click here for complete Agenda and Registration!](http://www.cvent.com/d/5rqql1/6X)\n
SUMMARY:Financial "Four"um - Estate Planning Council of Pittsburgh 
PRIORITY:3
BEGIN:VALARM
TRIGGER:PT18H
ACTION:DISPLAY
DESCRIPTION:Reminder
END:VALARM
END:VEVENT
END:VCALENDAR