BEGIN:VCALENDAR
PRODID:-//hacksw/handcal//NONSGML v1.0//EN
VERSION:2.0
METHOD:PUBLISH
BEGIN:VEVENT
DTSTART:20141113T220000Z
DTEND:20141114T003000Z
LOCATION:Vallozzi's Pittsburgh
UID:1118320141113T220000ZFall Social Hour
DTSTAMP:20260422T100940Z
DESCRIPTION:\nEPC Pittsburgh Fall Social Hour\n \nIf you have already responded to this invitation, thank you! If you have not yet replied, please do so. \n \nYou are invited to join your fellow \n EPC Pittsburgh Members!\n Potential members are also welcome!\nThursday, November 13, 2014\n5:00 - 7:30 PM\n Vallozzi's Pittsburgh, 220 Fifth Avenue, Pittsburgh, PA 15222\n Register below or call [412-655-4447](tel:412-655-4447) opt. 3, by November 10\n \nSponsored by Fidelity Charitable\n \n[](http://www.fidelitycharitable.org)\n \n \n
SUMMARY:Fall Social Hour - Estate Planning Council of Pittsburgh 
PRIORITY:3
BEGIN:VALARM
TRIGGER:PT18H
ACTION:DISPLAY
DESCRIPTION:Reminder
END:VALARM
END:VEVENT
END:VCALENDAR