BEGIN:VCALENDAR
PRODID:-//hacksw/handcal//NONSGML v1.0//EN
VERSION:2.0
METHOD:PUBLISH
BEGIN:VEVENT
DTSTART:20141016T123000Z
DTEND:20141016T210000Z
LOCATION:Hilton Garden Inn Southpointe
UID:1049120141016T123000ZFinancial "Four"um
DTSTAMP:20260422T101352Z
DESCRIPTION:
SUMMARY:Financial "Four"um - Estate Planning Council of Pittsburgh 
PRIORITY:3
BEGIN:VALARM
TRIGGER:PT18H
ACTION:DISPLAY
DESCRIPTION:Reminder
END:VALARM
END:VEVENT
END:VCALENDAR