BEGIN:VCALENDAR
PRODID:-//hacksw/handcal//NONSGML v1.0//EN
VERSION:2.0
METHOD:PUBLISH
BEGIN:VEVENT
DTSTART:20150122T223000Z
DTEND:20150123T013000Z
LOCATION:The Duquesne Club
UID:1048820150122T223000ZHealth Care Reform - How Will it Change Your Business Strategy
DTSTAMP:20260422T102534Z
DESCRIPTION:\nGranted 1 CLE and 1 CFP credit\n \nMark Capuano, Vice President, Product Manager, Employee Benefits, Huntington Insurance.  Mark has been in the insurance industry since 1980 with an extensive background and knowledge in employee benefit planning and medical risk analysis, with a strong emphasis in self-funded plans and alternative financing arrangements. Mark also served three years as an underwriter with Lloyds of London assessing, projecting and pricing medical risk as a wholesaler of specific and aggregate stop-loss insurance. Data-driven and skilled in developing cost control solutions, Mark stays ahead of market trends and researches, develops and implements new programs, products and services for Huntington Insurance clients.\n
SUMMARY:Health Care Reform - How Will it Change Your Business Strategy - Estate Planning Council of Pittsburgh 
PRIORITY:3
BEGIN:VALARM
TRIGGER:PT18H
ACTION:DISPLAY
DESCRIPTION:Reminder
END:VALARM
END:VEVENT
END:VCALENDAR