BEGIN:VCALENDAR
PRODID:-//hacksw/handcal//NONSGML v1.0//EN
VERSION:2.0
METHOD:PUBLISH
BEGIN:VEVENT
DTSTART:20140917T153000Z
DTEND:20140917T173000Z
LOCATION:The Duquesne Club
UID:1048720140917T153000ZTax Issues for Same-Sex Couples Post-DOMA 
DTSTAMP:20260422T103158Z
DESCRIPTION:\nPlease join us on Wednesday September 17 for a discussion of tax and estate planning issues facing same-sex couples and their advisors after the recent decisions regarding the Defense of Marriage Act.  Our presenter will be Prof. Anthony C. Infanti, Senior Associate Dean for Academic Affairs and Professor of Law at University of Pittsburgh School of Law.  This session will provide the most up to date information needed to advise your clients in this rapidly evolving area of estate planning.\n \nThis program has been approved for 1 CLE credit and granted 1 CFP credit.  Please note that this session will be on Wednesday, unlike our typical Thursday meetings.\n \nAttention Members!\n Sponsor three new members from July 1, 2014 through June 30, 2015, and Your 2015-2016 Dues will be FREE!\nAnd, Current Members may bring a first-time guest FREE of CHARGE to one meeting. Pre-registration is REQUIRED 48 hours in advance of meeting.\n
SUMMARY:Tax Issues for Same-Sex Couples Post-DOMA  - Estate Planning Council of Pittsburgh 
PRIORITY:3
BEGIN:VALARM
TRIGGER:PT18H
ACTION:DISPLAY
DESCRIPTION:Reminder
END:VALARM
END:VEVENT
END:VCALENDAR